BEGIN:VCALENDAR
VERSION:2.0
PRODID:-//LEOsphere - ECPv6.15.20//NONSGML v1.0//EN
CALSCALE:GREGORIAN
METHOD:PUBLISH
X-ORIGINAL-URL:https://leosphere.net
X-WR-CALDESC:Events for LEOsphere
REFRESH-INTERVAL;VALUE=DURATION:PT1H
X-Robots-Tag:noindex
X-PUBLISHED-TTL:PT1H
BEGIN:VTIMEZONE
TZID:Europe/Amsterdam
BEGIN:DAYLIGHT
TZOFFSETFROM:+0100
TZOFFSETTO:+0200
TZNAME:CEST
DTSTART:20250330T010000
END:DAYLIGHT
BEGIN:STANDARD
TZOFFSETFROM:+0200
TZOFFSETTO:+0100
TZNAME:CET
DTSTART:20251026T010000
END:STANDARD
BEGIN:DAYLIGHT
TZOFFSETFROM:+0100
TZOFFSETTO:+0200
TZNAME:CEST
DTSTART:20260329T010000
END:DAYLIGHT
BEGIN:STANDARD
TZOFFSETFROM:+0200
TZOFFSETTO:+0100
TZNAME:CET
DTSTART:20261025T010000
END:STANDARD
BEGIN:DAYLIGHT
TZOFFSETFROM:+0100
TZOFFSETTO:+0200
TZNAME:CEST
DTSTART:20270328T010000
END:DAYLIGHT
BEGIN:STANDARD
TZOFFSETFROM:+0200
TZOFFSETTO:+0100
TZNAME:CET
DTSTART:20271031T010000
END:STANDARD
END:VTIMEZONE
BEGIN:VEVENT
DTSTART;TZID=Europe/Amsterdam:20260519T080000
DTEND;TZID=Europe/Amsterdam:20260521T170000
DTSTAMP:20260424T185850
CREATED:20260405T061954Z
LAST-MODIFIED:20260406T092412Z
UID:10789-1779177600-1779382800@leosphere.net
SUMMARY:IACP Technology Conference 2026
DESCRIPTION:The International Association of Chiefs of Police technology conference providing training and professional development for police executives\, operational managers and technology staff. Features hands-on exhibits\, live demonstrations and educational sessions on AI in policing\, data management\, cybersecurity and digital policing tools. Exhibit space sold out. Media excluded. Audience: sworn and civilian law enforcement and related public safety professionals.
URL:https://leosphere.net/event/iacp-technology-conference-2026-2/
LOCATION:Fort Worth Convention Center\, 1201 Houston Street\, Fort Worth\, 76102\, United States
CATEGORIES:AI in Policing,Data & Cloud,Legal & Ethics,Operational Technology
END:VEVENT
END:VCALENDAR